BEGIN:VCALENDAR
VERSION:2.0
PRODID:-//Squarespace Inc/Squarespace 6//v6//EN
BEGIN:VEVENT
UID:6011383e8b98340d7450b169@squarespace.com
DTSTAMP:20210127T101047Z
DTSTART:20210220T030000Z
DTEND:20210220T053000Z
SUMMARY:Func's 10th Birthday!
GEO:-35.210358;149.139965
LOCATION:Functional Fitness Australia\, 67 Vicars Street\, Mitchell\, ACT\, 
 2911\, Australia
END:VEVENT
END:VCALENDAR
