BEGIN:VCALENDAR
VERSION:2.0
PRODID:-//Squarespace Inc/Squarespace 6//v6//EN
BEGIN:VEVENT
UID:6011346eaf3a5428e7111a2f@squarespace.com
DTSTAMP:20210222T215949Z
DTSTART:20210313T030000Z
DTEND:20210313T043000Z
SUMMARY:Find Your WHY Seminar - 13th March
GEO:-35.210358;149.139965
LOCATION:Functional Fitness Australia\, 67 Vicars Street\, Mitchell\, ACT\, 
 2911\, Australia
END:VEVENT
END:VCALENDAR
