BEGIN:VCALENDAR
VERSION:2.0
PRODID:-//Squarespace Inc/Squarespace 6//v6//EN
BEGIN:VEVENT
UID:5a209579ec212d686c9c91ac@squarespace.com
DTSTAMP:20171201T000902Z
DTSTART:20180212T000000Z
DTEND:20180212T010000Z
SUMMARY:4 Week Challenge Start - February 2018
GEO:-35.210358;149.139965
LOCATION:Functional Fitness Australia\, 67 Vicars Street\, Mitchell\, ACT\, 
 2911\, Australia
END:VEVENT
END:VCALENDAR
