BEGIN:VCALENDAR
VERSION:2.0
PRODID:-//Squarespace Inc/Squarespace 6//v6//EN
BEGIN:VEVENT
UID:5a209613e4966be2ad7108be@squarespace.com
DTSTAMP:20171201T000724Z
DTSTART:20180202T230000Z
DTEND:20180203T060000Z
SUMMARY:Client Quarterly Event - February 2018
GEO:-35.210358;149.139965
LOCATION:Functional Fitness Australia\, 67 Vicars Street\, Mitchell\, ACT\, 
 2911\, Australia
END:VEVENT
END:VCALENDAR
