BEGIN:VCALENDAR
VERSION:2.0
PRODID:-//Squarespace Inc/Squarespace 6//v6//EN
BEGIN:VEVENT
UID:5a20976a652deaf7d7b24cce@squarespace.com
DTSTAMP:20171201T001459Z
DTSTART:20180602T000000Z
DTEND:20180602T070000Z
SUMMARY:Client Quarterly Event - June 2018
GEO:-35.210358;149.139965
LOCATION:Functional Fitness Australia\, 67 Vicars Street\, Mitchell\, ACT\, 
 2911\, Australia
END:VEVENT
END:VCALENDAR
