BEGIN:VCALENDAR
VERSION:2.0
PRODID:-//Squarespace Inc/Squarespace 6//v6//EN
BEGIN:VEVENT
UID:5a20969b0d9297f9736f6170@squarespace.com
DTSTAMP:20171201T000815Z
DTSTART:20180209T230000Z
DTEND:20180210T060000Z
SUMMARY:Seminar - February 2018
GEO:-35.210358;149.139965
LOCATION:Functional Fitness Australia\, 67 Vicars Street\, Mitchell\, ACT\, 
 2911\, Australia
END:VEVENT
END:VCALENDAR
