BEGIN:VCALENDAR
VERSION:2.0
PRODID:-//Squarespace Inc/Squarespace 6//v6//EN
BEGIN:VEVENT
UID:5a209702e2c483d79133a0f4@squarespace.com
DTSTAMP:20171201T000935Z
DTSTART:20180309T230000Z
DTEND:20180310T060000Z
SUMMARY:Seminar - March 2018
GEO:-35.210358;149.139965
LOCATION:Functional Fitness Australia\, 67 Vicars Street\, Mitchell\, ACT\, 
 2911\, Australia
END:VEVENT
END:VCALENDAR
