BEGIN:VCALENDAR
VERSION:2.0
PRODID:-//Squarespace Inc/Squarespace 6//v6//EN
BEGIN:VEVENT
UID:5a20972f9140b77b549119c0@squarespace.com
DTSTAMP:20171201T001205Z
DTSTART:20180407T000000Z
DTEND:20180407T070000Z
SUMMARY:Seminar - April 2018
GEO:-35.210358;149.139965
LOCATION:Functional Fitness Australia\, 67 Vicars Street\, Mitchell\, ACT\, 
 2911\, Australia
END:VEVENT
END:VCALENDAR
