BEGIN:VCALENDAR
VERSION:2.0
PRODID:-//Squarespace Inc/Squarespace 6//v6//EN
BEGIN:VEVENT
UID:5a2096d50d9297f9736f6baf@squarespace.com
DTSTAMP:20171201T000652Z
DTSTART:20180112T230000Z
DTEND:20180113T060000Z
SUMMARY:Seminar - January 2018
GEO:-35.210358;149.139965
LOCATION:Functional Fitness Australia\, 67 Vicars Street\, Mitchell\, ACT\, 
 2911\, Australia
END:VEVENT
END:VCALENDAR
